BEGIN:VCALENDAR
VERSION:2.0
PRODID:-//Sober Austin - ECPv6.6.4.2//NONSGML v1.0//EN
CALSCALE:GREGORIAN
METHOD:PUBLISH
X-WR-CALNAME:Sober Austin
X-ORIGINAL-URL:https://soberaustin.com
X-WR-CALDESC:Events for Sober Austin
REFRESH-INTERVAL;VALUE=DURATION:PT1H
X-Robots-Tag:noindex
X-PUBLISHED-TTL:PT1H
BEGIN:VTIMEZONE
TZID:America/Chicago
BEGIN:DAYLIGHT
TZOFFSETFROM:-0600
TZOFFSETTO:-0500
TZNAME:CDT
DTSTART:20170312T080000
END:DAYLIGHT
BEGIN:STANDARD
TZOFFSETFROM:-0500
TZOFFSETTO:-0600
TZNAME:CST
DTSTART:20171105T070000
END:STANDARD
END:VTIMEZONE
BEGIN:VEVENT
DTSTART;TZID=America/Chicago:20170719T180000
DTEND;TZID=America/Chicago:20170719T193000
DTSTAMP:20260422T053917
CREATED:20170717T133726Z
LAST-MODIFIED:20170717T133726Z
UID:3539-1500487200-1500492600@soberaustin.com
SUMMARY:After Hours AustiNET
DESCRIPTION:Quarterly networking meeting for Austin’s mental health/substance use professionals\, students and allies unable to attend our noon monthly meetings. \nSnacks provided. 
URL:https://soberaustin.com/event/after-hours-austinet/
LOCATION:Rock Springs Hospital\, 700 SE Inner Loop\, Georgetown\, TX\, 78726\, United States
CATEGORIES:Professional
ORGANIZER;CN="David Hutts":MAILTO:dhutts@lahacienda.com
END:VEVENT
END:VCALENDAR